BEGIN:VCALENDAR
VERSION:2.0
PRODID:icalendar-ruby
CALSCALE:GREGORIAN
METHOD:PUBLISH
BEGIN:VEVENT
DTSTAMP:20260425T184257Z
UID:15-255827@recboise.com
DTSTART:20260208T170000Z
DTEND:20260502T180000Z
CLASS:PUBLIC
CREATED:20260329T181446
DESCRIPTION:Our Spring Semester of REC Groups begins Feb 8th and runs until
  May 2nd!\nREC Groups are our interest based small groups that meet during
  the week or on the weekends outside of our normal service times. There ar
 e weekly groups and even some one time events so make sure to sign up for 
 a REC Group! To stay up to date with what groups are available you can cli
 ck the link below. New groups are added often.
LAST-MODIFIED:20260329T181446
LOCATION:
SUMMARY:Spring REC Groups
URL;VALUE=URI:https://www.recboise.com/events/spring-rec-groups/2026-02-08
ATTACH;FILENAME=REC-REC-Groups.jpg;FMTTYPE=image/jpeg:https://dq5pwpg1q8ru0
 .cloudfront.net/2025/05/29/16/34/34/450c17fd-56ba-4ecd-ab50-629590cc4abd/R
 EC-REC-Groups.jpg
END:VEVENT
END:VCALENDAR
